Package: SLqPCR Version: 1.72.0 Command: /Library/Frameworks/R.framework/Resources/bin/R CMD check --install=check:SLqPCR.install-out.txt --library=/Library/Frameworks/R.framework/Resources/library --no-vignettes --timings SLqPCR_1.72.0.tar.gz StartedAt: 2025-01-31 10:17:41 -0500 (Fri, 31 Jan 2025) EndedAt: 2025-01-31 10:18:17 -0500 (Fri, 31 Jan 2025) EllapsedTime: 36.6 seconds RetCode: 0 Status: OK CheckDir: SLqPCR.Rcheck Warnings: 0