Package: SLqPCR Version: 1.72.0 Command: /home/biocbuild/bbs-3.20-bioc/R/bin/R CMD INSTALL SLqPCR StartedAt: 2025-02-03 15:13:24 -0500 (Mon, 03 Feb 2025) EndedAt: 2025-02-03 15:13:29 -0500 (Mon, 03 Feb 2025) EllapsedTime: 4.8 seconds RetCode: 0 Status: OK