Package: SLqPCR Version: 1.72.0 Command: chmod a+r SLqPCR -R && F:\biocbuild\bbs-3.20-bioc\R\bin\R.exe CMD build --keep-empty-dirs --no-resave-data SLqPCR StartedAt: 2025-01-30 21:57:06 -0500 (Thu, 30 Jan 2025) EndedAt: 2025-01-30 21:57:18 -0500 (Thu, 30 Jan 2025) EllapsedTime: 11.0 seconds RetCode: 0 Status: OK PackageFile: SLqPCR_1.72.0.tar.gz PackageFileSize: 122.1 KiB