Package: SLqPCR Version: 1.72.0 Command: /home/biocbuild/R/R/bin/R CMD build --keep-empty-dirs --no-resave-data SLqPCR StartedAt: 2025-02-04 03:06:03 -0000 (Tue, 04 Feb 2025) EndedAt: 2025-02-04 03:06:13 -0000 (Tue, 04 Feb 2025) EllapsedTime: 10.0 seconds RetCode: 0 Status: OK PackageFile: SLqPCR_1.72.0.tar.gz PackageFileSize: 215 KiB