Package: SMITE Version: 1.34.0 Command: rm -rf SMITE.buildbin-libdir && mkdir SMITE.buildbin-libdir && /Users/biocbuild/BBS/utils/build-universal.sh SMITE_1.34.0.tar.gz /Library/Frameworks/R.framework/Resources/bin/R SMITE.buildbin-libdir StartedAt: 2025-02-05 17:53:37 -0500 (Wed, 05 Feb 2025) EndedAt: 2025-02-05 17:54:34 -0500 (Wed, 05 Feb 2025) EllapsedTime: 56.5 seconds RetCode: 0 Status: OK PackageFile: SMITE_1.34.0.tgz PackageFileSize: 3.607 MiB