Package: SMITE Version: 1.34.0 Command: chmod a+r SMITE -R && F:\biocbuild\bbs-3.20-bioc\R\bin\R.exe CMD build --keep-empty-dirs --no-resave-data SMITE StartedAt: 2025-02-03 22:14:49 -0500 (Mon, 03 Feb 2025) EndedAt: 2025-02-03 22:16:50 -0500 (Mon, 03 Feb 2025) EllapsedTime: 120.9 seconds RetCode: 0 Status: OK PackageFile: SMITE_1.34.0.tar.gz PackageFileSize: 3.09 MiB