Package: SMITE Version: 1.34.0 Command: /home/biocbuild/R/R/bin/R CMD check --install=check:SMITE.install-out.txt --library=/home/biocbuild/R/R/site-library --no-vignettes --timings SMITE_1.34.0.tar.gz StartedAt: 2025-02-04 11:12:55 -0000 (Tue, 04 Feb 2025) EndedAt: 2025-02-04 11:18:47 -0000 (Tue, 04 Feb 2025) EllapsedTime: 352.4 seconds RetCode: 0 Status: OK CheckDir: SMITE.Rcheck Warnings: 0