Package: SMITE Version: 1.34.0 Command: /home/biocbuild/R/R/bin/R CMD INSTALL SMITE StartedAt: 2025-02-03 20:55:26 -0000 (Mon, 03 Feb 2025) EndedAt: 2025-02-03 20:56:23 -0000 (Mon, 03 Feb 2025) EllapsedTime: 57.5 seconds RetCode: 0 Status: OK