Package: SNAGEE Version: 1.46.0 Command: rm -rf SNAGEE.buildbin-libdir && mkdir SNAGEE.buildbin-libdir && /Users/biocbuild/BBS/utils/build-universal.sh SNAGEE_1.46.0.tar.gz /Library/Frameworks/R.framework/Resources/bin/R SNAGEE.buildbin-libdir StartedAt: 2024-11-09 17:13:03 -0500 (Sat, 09 Nov 2024) EndedAt: 2024-11-09 17:13:04 -0500 (Sat, 09 Nov 2024) EllapsedTime: 1.0 seconds RetCode: 0 Status: OK PackageFile: SNAGEE_1.46.0.tgz PackageFileSize: 187.3 KiB