Package: SNAGEE Version: 1.46.0 Command: rm -rf SNAGEE.buildbin-libdir && mkdir SNAGEE.buildbin-libdir && /Users/biocbuild/BBS/utils/build-universal.sh SNAGEE_1.46.0.tar.gz /Library/Frameworks/R.framework/Resources/bin/R SNAGEE.buildbin-libdir StartedAt: 2024-11-20 04:52:40 -0500 (Wed, 20 Nov 2024) EndedAt: 2024-11-20 04:52:44 -0500 (Wed, 20 Nov 2024) EllapsedTime: 4.6 seconds RetCode: 0 Status: OK PackageFile: SNAGEE_1.46.0.tgz PackageFileSize: 187.1 KiB