Package: SNAGEE Version: 1.46.0 Command: rm -rf SNAGEE.buildbin-libdir && mkdir SNAGEE.buildbin-libdir && /Users/biocbuild/BBS/utils/build-universal.sh SNAGEE_1.46.0.tar.gz /Library/Frameworks/R.framework/Resources/bin/R SNAGEE.buildbin-libdir StartedAt: 2025-01-31 13:44:44 -0500 (Fri, 31 Jan 2025) EndedAt: 2025-01-31 13:44:50 -0500 (Fri, 31 Jan 2025) EllapsedTime: 5.4 seconds RetCode: 0 Status: OK PackageFile: SNAGEE_1.46.0.tgz PackageFileSize: 187 KiB