Package: SNAGEE Version: 1.46.0 Command: /home/biocbuild/bbs-3.20-bioc/R/bin/R CMD check --install=check:SNAGEE.install-out.txt --library=/home/biocbuild/bbs-3.20-bioc/R/site-library --timings SNAGEE_1.46.0.tar.gz StartedAt: 2025-01-31 02:28:00 -0500 (Fri, 31 Jan 2025) EndedAt: 2025-01-31 02:28:57 -0500 (Fri, 31 Jan 2025) EllapsedTime: 57.0 seconds RetCode: 0 Status: OK CheckDir: SNAGEE.Rcheck Warnings: 0