Package: SNAGEE Version: 1.46.0 Command: /home/biocbuild/bbs-3.20-bioc/R/bin/R CMD INSTALL SNAGEE StartedAt: 2025-01-30 15:04:27 -0500 (Thu, 30 Jan 2025) EndedAt: 2025-01-30 15:04:31 -0500 (Thu, 30 Jan 2025) EllapsedTime: 4.3 seconds RetCode: 0 Status: OK