Package: SNAGEE Version: 1.46.0 Command: F:\biocbuild\bbs-3.20-bioc\R\bin\R.exe CMD INSTALL SNAGEE StartedAt: 2025-01-30 15:18:52 -0500 (Thu, 30 Jan 2025) EndedAt: 2025-01-30 15:19:02 -0500 (Thu, 30 Jan 2025) EllapsedTime: 10.3 seconds RetCode: 0 Status: OK