Package: SNAGEE Version: 1.46.0 Command: /home/biocbuild/R/R/bin/R CMD build --keep-empty-dirs --no-resave-data SNAGEE StartedAt: 2025-01-31 02:49:12 -0000 (Fri, 31 Jan 2025) EndedAt: 2025-01-31 02:51:22 -0000 (Fri, 31 Jan 2025) EllapsedTime: 129.1 seconds RetCode: 0 Status: OK PackageFile: SNAGEE_1.46.0.tar.gz PackageFileSize: 165.4 KiB