Package: SNAGEE Version: 1.46.0 Command: /home/biocbuild/R/R/bin/R CMD check --install=check:SNAGEE.install-out.txt --library=/home/biocbuild/R/R/site-library --no-vignettes --timings SNAGEE_1.46.0.tar.gz StartedAt: 2025-01-31 10:33:30 -0000 (Fri, 31 Jan 2025) EndedAt: 2025-01-31 10:36:03 -0000 (Fri, 31 Jan 2025) EllapsedTime: 153.1 seconds RetCode: 0 Status: OK CheckDir: SNAGEE.Rcheck Warnings: 0