Package: SNAGEE Version: 1.46.0 Command: /home/biocbuild/R/R/bin/R CMD INSTALL SNAGEE StartedAt: 2025-01-30 20:05:47 -0000 (Thu, 30 Jan 2025) EndedAt: 2025-01-30 20:05:56 -0000 (Thu, 30 Jan 2025) EllapsedTime: 9.1 seconds RetCode: 0 Status: OK