Package: SNPediaR Version: 1.32.0 Command: /Library/Frameworks/R.framework/Resources/bin/R CMD check --install=check:SNPediaR.install-out.txt --library=/Library/Frameworks/R.framework/Resources/library --no-vignettes --timings SNPediaR_1.32.0.tar.gz StartedAt: 2025-02-05 10:46:53 -0500 (Wed, 05 Feb 2025) EndedAt: 2025-02-05 10:47:26 -0500 (Wed, 05 Feb 2025) EllapsedTime: 33.2 seconds RetCode: 0 Status: OK CheckDir: SNPediaR.Rcheck Warnings: 0