Package: SNPediaR Version: 1.32.0 Command: /Library/Frameworks/R.framework/Resources/bin/R CMD check --install=check:SNPediaR.install-out.txt --library=/Library/Frameworks/R.framework/Resources/library --no-vignettes --timings SNPediaR_1.32.0.tar.gz StartedAt: 2025-02-04 10:25:03 -0500 (Tue, 04 Feb 2025) EndedAt: 2025-02-04 10:25:52 -0500 (Tue, 04 Feb 2025) EllapsedTime: 48.5 seconds RetCode: 0 Status: OK CheckDir: SNPediaR.Rcheck Warnings: 0