Package: SNPediaR
Version: 1.32.0
Command: /home/biocbuild/bbs-3.20-bioc/R/bin/R CMD build --keep-empty-dirs --no-resave-data --md5 SNPediaR
StartedAt: 2025-02-17 19:09:54 -0500 (Mon, 17 Feb 2025)
EndedAt: 2025-02-17 19:10:01 -0500 (Mon, 17 Feb 2025)
EllapsedTime: 7.0 seconds
RetCode: 0
Status: OK
PackageFile: SNPediaR_1.32.0.tar.gz
PackageFileSize: 230.9 <A href="http://en.wikipedia.org/wiki/KiB" target="_blank">KiB</A>