Package: SNPediaR Version: 1.32.0 Command: chmod a+r SNPediaR -R && F:\biocbuild\bbs-3.20-bioc\R\bin\R.exe CMD build --keep-empty-dirs --no-resave-data SNPediaR StartedAt: 2025-02-03 22:15:39 -0500 (Mon, 03 Feb 2025) EndedAt: 2025-02-03 22:15:46 -0500 (Mon, 03 Feb 2025) EllapsedTime: 7.0 seconds RetCode: 1 Status: ERROR PackageFile: None PackageFileSize: NA