Package: SNPediaR Version: 1.32.0 Command: /home/biocbuild/R/R/bin/R CMD build --keep-empty-dirs --no-resave-data SNPediaR StartedAt: 2025-02-04 03:07:27 -0000 (Tue, 04 Feb 2025) EndedAt: 2025-02-04 03:07:45 -0000 (Tue, 04 Feb 2025) EllapsedTime: 18.0 seconds RetCode: 0 Status: OK PackageFile: SNPediaR_1.32.0.tar.gz PackageFileSize: 254.8 KiB