Package: SNPhood
Version: 1.35.0
Command: F:\biocbuild\bbs-3.20-bioc\R\bin\R.exe CMD INSTALL SNPhood
StartedAt: 2024-06-09 16:09:18 -0400 (Sun, 09 Jun 2024)
EndedAt: 2024-06-09 16:10:41 -0400 (Sun, 09 Jun 2024)
EllapsedTime: 82.6 seconds
RetCode: 0
Status: OK