Package: SNPhood Version: 1.36.0 Command: /home/biocbuild/R/R/bin/R CMD INSTALL SNPhood StartedAt: 2025-02-03 20:43:40 -0000 (Mon, 03 Feb 2025) EndedAt: 2025-02-03 20:44:55 -0000 (Mon, 03 Feb 2025) EllapsedTime: 75.0 seconds RetCode: 0 Status: OK