Package: SOMNiBUS Version: 1.14.2 Command: /Library/Frameworks/R.framework/Resources/bin/R CMD INSTALL SOMNiBUS StartedAt: 2025-02-17 15:40:46 -0500 (Mon, 17 Feb 2025) EndedAt: 2025-02-17 15:42:21 -0500 (Mon, 17 Feb 2025) EllapsedTime: 94.8 seconds RetCode: 0 Status: OK