Package: SOMNiBUS Version: 1.14.2 Command: /home/biocbuild/bbs-3.20-bioc/R/bin/R CMD build --keep-empty-dirs --no-resave-data --md5 SOMNiBUS StartedAt: 2025-02-03 19:24:27 -0500 (Mon, 03 Feb 2025) EndedAt: 2025-02-03 19:28:36 -0500 (Mon, 03 Feb 2025) EllapsedTime: 249.3 seconds RetCode: 0 Status: OK PackageFile: SOMNiBUS_1.14.2.tar.gz PackageFileSize: 1.103 MiB