Package: SOMNiBUS Version: 1.14.2 Command: rm -rf SOMNiBUS.buildbin-libdir && mkdir SOMNiBUS.buildbin-libdir && F:\biocbuild\bbs-3.20-bioc\R\bin\R.exe CMD INSTALL --build --library=SOMNiBUS.buildbin-libdir SOMNiBUS_1.14.2.tar.gz StartedAt: 2025-02-04 09:34:13 -0500 (Tue, 04 Feb 2025) EndedAt: 2025-02-04 09:35:14 -0500 (Tue, 04 Feb 2025) EllapsedTime: 61.2 seconds RetCode: 0 Status: OK PackageFile: SOMNiBUS_1.14.2.zip PackageFileSize: 610 KiB