Package: SOMNiBUS Version: 1.14.2 Command: /home/biocbuild/R/R/bin/R CMD build --keep-empty-dirs --no-resave-data SOMNiBUS StartedAt: 2025-02-04 03:08:29 -0000 (Tue, 04 Feb 2025) EndedAt: 2025-02-04 03:12:55 -0000 (Tue, 04 Feb 2025) EllapsedTime: 266.4 seconds RetCode: 0 Status: OK PackageFile: SOMNiBUS_1.14.2.tar.gz PackageFileSize: 1.09 MiB