Package: SOMNiBUS Version: 1.14.2 Command: /home/biocbuild/R/R/bin/R CMD INSTALL SOMNiBUS StartedAt: 2025-02-03 20:46:02 -0000 (Mon, 03 Feb 2025) EndedAt: 2025-02-03 20:46:59 -0000 (Mon, 03 Feb 2025) EllapsedTime: 56.2 seconds RetCode: 0 Status: OK