Package: SPIA Version: 2.58.0 Maintainer: Adi Laurentiu Tarca MaintainerEmail: atarca at med.wayne.edu git_url: https://git.bioconductor.org/packages/SPIA git_branch: RELEASE_3_20 git_last_commit: 6d8dc02 git_last_commit_date: 2024-10-29 09:30:50 -0500 (Tue, 29 Oct 2024)