Package: SPIA Version: 2.58.0 Command: rm -rf SPIA.buildbin-libdir && mkdir SPIA.buildbin-libdir && /Users/biocbuild/BBS/utils/build-universal.sh SPIA_2.58.0.tar.gz /Library/Frameworks/R.framework/Resources/bin/R SPIA.buildbin-libdir StartedAt: 2025-02-01 17:02:10 -0500 (Sat, 01 Feb 2025) EndedAt: 2025-02-01 17:02:18 -0500 (Sat, 01 Feb 2025) EllapsedTime: 8.1 seconds RetCode: 0 Status: OK PackageFile: SPIA_2.58.0.tgz PackageFileSize: 2.536 MiB