Package: SPIA Version: 2.58.0 Command: /Library/Frameworks/R.framework/Resources/bin/R CMD check --install=check:SPIA.install-out.txt --library=/Library/Frameworks/R.framework/Resources/library --no-vignettes --timings SPIA_2.58.0.tar.gz StartedAt: 2025-02-01 10:28:37 -0500 (Sat, 01 Feb 2025) EndedAt: 2025-02-01 10:37:11 -0500 (Sat, 01 Feb 2025) EllapsedTime: 513.8 seconds RetCode: 0 Status: OK CheckDir: SPIA.Rcheck Warnings: 0