Package: SPIA Version: 2.58.0 Command: /home/biocbuild/R/R/bin/R CMD INSTALL SPIA StartedAt: 2024-11-19 20:32:38 -0000 (Tue, 19 Nov 2024) EndedAt: 2024-11-19 20:32:55 -0000 (Tue, 19 Nov 2024) EllapsedTime: 16.9 seconds RetCode: 0 Status: OK