Package: SPIA Version: 2.58.0 Command: rm -rf SPIA.buildbin-libdir && mkdir SPIA.buildbin-libdir && /Users/biocbuild/BBS/utils/build-universal.sh SPIA_2.58.0.tar.gz /Library/Frameworks/R.framework/Resources/bin/R SPIA.buildbin-libdir StartedAt: 2024-11-20 04:53:37 -0500 (Wed, 20 Nov 2024) EndedAt: 2024-11-20 04:53:48 -0500 (Wed, 20 Nov 2024) EllapsedTime: 11.3 seconds RetCode: 0 Status: OK PackageFile: SPIA_2.58.0.tgz PackageFileSize: 2.536 MiB