Package: SPIA Version: 2.58.0 Command: /Library/Frameworks/R.framework/Resources/bin/R CMD build --keep-empty-dirs --no-resave-data SPIA StartedAt: 2024-11-19 18:48:00 -0500 (Tue, 19 Nov 2024) EndedAt: 2024-11-19 18:54:46 -0500 (Tue, 19 Nov 2024) EllapsedTime: 405.6 seconds RetCode: 0 Status: OK PackageFile: SPIA_2.58.0.tar.gz PackageFileSize: 2.549 MiB