Package: SPIA Version: 2.58.0 Command: /Library/Frameworks/R.framework/Resources/bin/R CMD INSTALL SPIA StartedAt: 2024-11-19 15:10:12 -0500 (Tue, 19 Nov 2024) EndedAt: 2024-11-19 15:10:20 -0500 (Tue, 19 Nov 2024) EllapsedTime: 8.2 seconds RetCode: 0 Status: OK