Package: SPIA Version: 2.58.0 Command: rm -rf SPIA.buildbin-libdir && mkdir SPIA.buildbin-libdir && /Users/biocbuild/BBS/utils/build-universal.sh SPIA_2.58.0.tar.gz /Library/Frameworks/R.framework/Resources/bin/R SPIA.buildbin-libdir StartedAt: 2025-01-31 13:46:47 -0500 (Fri, 31 Jan 2025) EndedAt: 2025-01-31 13:46:59 -0500 (Fri, 31 Jan 2025) EllapsedTime: 12.1 seconds RetCode: 0 Status: OK PackageFile: SPIA_2.58.0.tgz PackageFileSize: 2.536 MiB