Package: SPIA Version: 2.58.0 Command: /Library/Frameworks/R.framework/Resources/bin/R CMD build --keep-empty-dirs --no-resave-data SPIA StartedAt: 2025-01-30 23:07:40 -0500 (Thu, 30 Jan 2025) EndedAt: 2025-01-30 23:19:05 -0500 (Thu, 30 Jan 2025) EllapsedTime: 685.0 seconds RetCode: 0 Status: OK PackageFile: SPIA_2.58.0.tar.gz PackageFileSize: 2.549 MiB