Package: SPIA Version: 2.58.0 Command: /Library/Frameworks/R.framework/Resources/bin/R CMD INSTALL SPIA StartedAt: 2025-01-30 15:13:41 -0500 (Thu, 30 Jan 2025) EndedAt: 2025-01-30 15:14:01 -0500 (Thu, 30 Jan 2025) EllapsedTime: 19.6 seconds RetCode: 0 Status: OK