Package: SPIA Version: 2.58.0 Command: /home/biocbuild/R/R/bin/R CMD build --keep-empty-dirs --no-resave-data SPIA StartedAt: 2025-01-31 02:55:41 -0000 (Fri, 31 Jan 2025) EndedAt: 2025-01-31 02:59:22 -0000 (Fri, 31 Jan 2025) EllapsedTime: 221.1 seconds RetCode: 0 Status: OK PackageFile: SPIA_2.58.0.tar.gz PackageFileSize: 2.542 MiB