Package: SPIA Version: 2.58.0 Command: /home/biocbuild/R/R/bin/R CMD check --install=check:SPIA.install-out.txt --library=/home/biocbuild/R/R/site-library --no-vignettes --timings SPIA_2.58.0.tar.gz StartedAt: 2025-01-31 10:41:14 -0000 (Fri, 31 Jan 2025) EndedAt: 2025-01-31 10:45:01 -0000 (Fri, 31 Jan 2025) EllapsedTime: 227.2 seconds RetCode: 0 Status: OK CheckDir: SPIA.Rcheck Warnings: 0