Package: SPIA Version: 2.58.0 Command: /home/biocbuild/R/R/bin/R CMD INSTALL SPIA StartedAt: 2025-01-30 20:11:29 -0000 (Thu, 30 Jan 2025) EndedAt: 2025-01-30 20:11:40 -0000 (Thu, 30 Jan 2025) EllapsedTime: 11.3 seconds RetCode: 0 Status: OK