Package: SPIAT
Version: 1.8.0
Command: /Library/Frameworks/R.framework/Resources/bin/R CMD build --keep-empty-dirs --no-resave-data SPIAT
StartedAt: 2024-11-08 19:15:55 -0500 (Fri, 08 Nov 2024)
EndedAt: 2024-11-08 19:17:00 -0500 (Fri, 08 Nov 2024)
EllapsedTime: 65.7 seconds
RetCode: 0
Status: OK
PackageFile: SPIAT_1.8.0.tar.gz
PackageFileSize: 7.175 <A href="http://en.wikipedia.org/wiki/MiB" target="_blank">MiB</A>