Package: SPIAT Version: 1.8.0 Command: /Library/Frameworks/R.framework/Resources/bin/R CMD check --install=check:SPIAT.install-out.txt --library=/Library/Frameworks/R.framework/Resources/library --no-vignettes --timings SPIAT_1.8.0.tar.gz StartedAt: 2024-11-20 02:58:57 -0500 (Wed, 20 Nov 2024) EndedAt: 2024-11-20 03:07:06 -0500 (Wed, 20 Nov 2024) EllapsedTime: 489.3 seconds RetCode: 0 Status: OK CheckDir: SPIAT.Rcheck Warnings: 0