Package: SPIAT Version: 1.8.0 Command: /home/biocbuild/bbs-3.20-bioc/R/bin/R CMD check --install=check:SPIAT.install-out.txt --library=/home/biocbuild/bbs-3.20-bioc/R/site-library --timings SPIAT_1.8.0.tar.gz StartedAt: 2025-02-04 02:47:51 -0500 (Tue, 04 Feb 2025) EndedAt: 2025-02-04 02:56:00 -0500 (Tue, 04 Feb 2025) EllapsedTime: 488.5 seconds RetCode: 0 Status: OK CheckDir: SPIAT.Rcheck Warnings: 0