Package: SPIAT Version: 1.8.0 Command: /home/biocbuild/bbs-3.20-bioc/R/bin/R CMD INSTALL SPIAT StartedAt: 2025-02-03 15:25:35 -0500 (Mon, 03 Feb 2025) EndedAt: 2025-02-03 15:26:01 -0500 (Mon, 03 Feb 2025) EllapsedTime: 25.4 seconds RetCode: 0 Status: OK