Package: SPIAT Version: 1.8.0 Command: F:\biocbuild\bbs-3.20-bioc\R\bin\R.exe CMD INSTALL SPIAT StartedAt: 2025-02-03 16:41:34 -0500 (Mon, 03 Feb 2025) EndedAt: 2025-02-03 16:42:25 -0500 (Mon, 03 Feb 2025) EllapsedTime: 51.8 seconds RetCode: 0 Status: OK