Package: SPLINTER
Version: 1.32.0
Command: /Library/Frameworks/R.framework/Resources/bin/R CMD build --keep-empty-dirs --no-resave-data SPLINTER
StartedAt: 2024-11-08 19:17:14 -0500 (Fri, 08 Nov 2024)
EndedAt: 2024-11-08 19:17:53 -0500 (Fri, 08 Nov 2024)
EllapsedTime: 39.4 seconds
RetCode: 1
Status: ERROR
PackageFile: None
PackageFileSize: NA