Package: SPLINTER Version: 1.32.0 Command: /home/biocbuild/bbs-3.20-bioc/R/bin/R CMD build --keep-empty-dirs --no-resave-data --md5 SPLINTER StartedAt: 2025-02-17 19:14:23 -0500 (Mon, 17 Feb 2025) EndedAt: 2025-02-17 19:15:43 -0500 (Mon, 17 Feb 2025) EllapsedTime: 80.1 seconds RetCode: 1 Status: ERROR PackageFile: None PackageFileSize: NA