Package: SPLINTER Version: 1.32.0 Command: /home/biocbuild/bbs-3.20-bioc/R/bin/R CMD check --install=check:SPLINTER.install-out.txt --library=/home/biocbuild/bbs-3.20-bioc/R/site-library --timings SPLINTER_1.32.0.tar.gz StartedAt: 2025-02-04 02:50:07 -0500 (Tue, 04 Feb 2025) EndedAt: 2025-02-04 02:56:19 -0500 (Tue, 04 Feb 2025) EllapsedTime: 372.3 seconds RetCode: 0 Status: OK CheckDir: SPLINTER.Rcheck Warnings: 0